BEGIN:VCALENDAR
VERSION:2.0
PRODID:-//Chic Inn LLC - ECPv6.15.3//NONSGML v1.0//EN
CALSCALE:GREGORIAN
METHOD:PUBLISH
X-WR-CALNAME:Chic Inn LLC
X-ORIGINAL-URL:https://thechicinn.com
X-WR-CALDESC:Events for Chic Inn LLC
REFRESH-INTERVAL;VALUE=DURATION:PT1H
X-Robots-Tag:noindex
X-PUBLISHED-TTL:PT1H
BEGIN:VTIMEZONE
TZID:UTC
BEGIN:STANDARD
TZOFFSETFROM:+0000
TZOFFSETTO:+0000
TZNAME:UTC
DTSTART:20240101T000000
END:STANDARD
END:VTIMEZONE
BEGIN:VEVENT
DTSTART;TZID=UTC:20240711T103313
DTEND;TZID=UTC:20240711T103313
DTSTAMP:20260425T215045
CREATED:20240317T133944Z
LAST-MODIFIED:20240711T103305Z
UID:962-1720693993-1720693993@thechicinn.com
SUMMARY:2024
DESCRIPTION:EXPLORE TURKEY RUN STATE PARK\nLocated 23 miles away via IN-47S \n\nHiking Trails\nOver 14 miles of hiking trails ranging from easy to rugged.\nBreathe in Nature\nBe amazed at Indiana’s natural beauty during every season! Visit the 1906 Beeson Covered Bridge\nKayak Launching\nOne of Indiana’s most scenic rivers\, Sugar Creek\, runs through the heart of Turkey Run State Park\, supports canoeing\, kayaking and fishing with a license\n\n 
URL:https://thechicinn.com/event/2024/
LOCATION:Turkey Run State Park\, 8121 Park Rd\, Marshall\, IN 47859\, USA\, Marshall\, IN\, 47859\, United States
ATTACH;FMTTYPE=image/png:https://thechicinn.com/wp-content/uploads/2024/03/ft-1.png
ORGANIZER;CN="Dr. Susan":MAILTO:sb.thechicinn@gmail.com
END:VEVENT
END:VCALENDAR